BEGIN:VCALENDAR
VERSION:2.0
PRODID:-//Sacred Heart Primary School Tattyreagh - ECPv6.15.20//NONSGML v1.0//EN
CALSCALE:GREGORIAN
METHOD:PUBLISH
X-WR-CALNAME:Sacred Heart Primary School Tattyreagh
X-ORIGINAL-URL:https://sacredheartprimary.com
X-WR-CALDESC:Events for Sacred Heart Primary School Tattyreagh
REFRESH-INTERVAL;VALUE=DURATION:PT1H
X-Robots-Tag:noindex
X-PUBLISHED-TTL:PT1H
BEGIN:VTIMEZONE
TZID:Europe/London
BEGIN:DAYLIGHT
TZOFFSETFROM:+0000
TZOFFSETTO:+0100
TZNAME:BST
DTSTART:20250330T010000
END:DAYLIGHT
BEGIN:STANDARD
TZOFFSETFROM:+0100
TZOFFSETTO:+0000
TZNAME:GMT
DTSTART:20251026T010000
END:STANDARD
BEGIN:DAYLIGHT
TZOFFSETFROM:+0000
TZOFFSETTO:+0100
TZNAME:BST
DTSTART:20260329T010000
END:DAYLIGHT
BEGIN:STANDARD
TZOFFSETFROM:+0100
TZOFFSETTO:+0000
TZNAME:GMT
DTSTART:20261025T010000
END:STANDARD
BEGIN:DAYLIGHT
TZOFFSETFROM:+0000
TZOFFSETTO:+0100
TZNAME:BST
DTSTART:20270328T010000
END:DAYLIGHT
BEGIN:STANDARD
TZOFFSETFROM:+0100
TZOFFSETTO:+0000
TZNAME:GMT
DTSTART:20271031T010000
END:STANDARD
END:VTIMEZONE
BEGIN:VEVENT
DTSTART;TZID=Europe/London:20260622T080000
DTEND;TZID=Europe/London:20260624T170000
DTSTAMP:20260424T153101
CREATED:20251002T111419Z
LAST-MODIFIED:20251002T112509Z
UID:3127-1782115200-1782320400@sacredheartprimary.com
SUMMARY:P6/7 Residential School trip
DESCRIPTION:P6/7 Residential School trip @ Share Discovery Village. Action packed 3 day trip for our P6/7 pupils.
URL:https://sacredheartprimary.com/calendar/3127/
END:VEVENT
BEGIN:VEVENT
DTSTART;TZID=Europe/London:20260630T120000
DTEND;TZID=Europe/London:20260830T170000
DTSTAMP:20260424T153101
CREATED:20251002T111528Z
LAST-MODIFIED:20251002T111528Z
UID:3129-1782820800-1788109200@sacredheartprimary.com
SUMMARY:Summer Holidays (12.00pm)
DESCRIPTION:Summer Holidays commence @ 12.00pm
URL:https://sacredheartprimary.com/calendar/summer-holidays-12-00pm/
END:VEVENT
END:VCALENDAR