BEGIN:VCALENDAR
VERSION:2.0
PRODID:-//Sacred Heart Primary School Tattyreagh - ECPv6.15.20//NONSGML v1.0//EN
CALSCALE:GREGORIAN
METHOD:PUBLISH
X-ORIGINAL-URL:https://sacredheartprimary.com
X-WR-CALDESC:Events for Sacred Heart Primary School Tattyreagh
REFRESH-INTERVAL;VALUE=DURATION:PT1H
X-Robots-Tag:noindex
X-PUBLISHED-TTL:PT1H
BEGIN:VTIMEZONE
TZID:Europe/London
BEGIN:DAYLIGHT
TZOFFSETFROM:+0000
TZOFFSETTO:+0100
TZNAME:BST
DTSTART:20250330T010000
END:DAYLIGHT
BEGIN:STANDARD
TZOFFSETFROM:+0100
TZOFFSETTO:+0000
TZNAME:GMT
DTSTART:20251026T010000
END:STANDARD
BEGIN:DAYLIGHT
TZOFFSETFROM:+0000
TZOFFSETTO:+0100
TZNAME:BST
DTSTART:20260329T010000
END:DAYLIGHT
BEGIN:STANDARD
TZOFFSETFROM:+0100
TZOFFSETTO:+0000
TZNAME:GMT
DTSTART:20261025T010000
END:STANDARD
BEGIN:DAYLIGHT
TZOFFSETFROM:+0000
TZOFFSETTO:+0100
TZNAME:BST
DTSTART:20270328T010000
END:DAYLIGHT
BEGIN:STANDARD
TZOFFSETFROM:+0100
TZOFFSETTO:+0000
TZNAME:GMT
DTSTART:20271031T010000
END:STANDARD
END:VTIMEZONE
BEGIN:VEVENT
DTSTART;TZID=Europe/London:20260504T080000
DTEND;TZID=Europe/London:20260505T170000
DTSTAMP:20260424T140539
CREATED:20251002T111201Z
LAST-MODIFIED:20251002T111201Z
UID:3123-1777881600-1778000400@sacredheartprimary.com
SUMMARY:School Closure
DESCRIPTION:
URL:https://sacredheartprimary.com/calendar/school-closure-5/
END:VEVENT
BEGIN:VEVENT
DTSTART;TZID=Europe/London:20260516T120000
DTEND;TZID=Europe/London:20260516T133000
DTSTAMP:20260424T140539
CREATED:20251016T141904Z
LAST-MODIFIED:20251016T141904Z
UID:3142-1778932800-1778938200@sacredheartprimary.com
SUMMARY:First Holy Communion  (P4)
DESCRIPTION:P4 pupils will make their First Holy Communion joining pupils from All Saints PS Tattysallagh at 12.00pm in Drumragh Chapel
URL:https://sacredheartprimary.com/calendar/first-holy-communion-p4/
END:VEVENT
BEGIN:VEVENT
DTSTART;TZID=Europe/London:20260518T080000
DTEND;TZID=Europe/London:20260522T170000
DTSTAMP:20260424T140539
CREATED:20260205T141852Z
LAST-MODIFIED:20260205T141852Z
UID:3244-1779091200-1779469200@sacredheartprimary.com
SUMMARY:Walk to School Week
DESCRIPTION:Organised meet-ups to allow pupils to walk safely to school will be organised by our PTA. (weather permitting)
URL:https://sacredheartprimary.com/calendar/walk-to-school-week/
END:VEVENT
BEGIN:VEVENT
DTSTART;TZID=Europe/London:20260519T093000
DTEND;TZID=Europe/London:20260519T123000
DTSTAMP:20260424T140539
CREATED:20260205T142109Z
LAST-MODIFIED:20260205T142109Z
UID:3246-1779183000-1779193800@sacredheartprimary.com
SUMMARY:Fitter Younger Whole School Marathon
DESCRIPTION:All staff & pupils P1-P7 will compete in this fundraising event\, which will see the entire school population complete the 26 miles of a standard marathon.
URL:https://sacredheartprimary.com/calendar/fitter-younger-whole-school-marathon/
END:VEVENT
BEGIN:VEVENT
DTSTART;TZID=Europe/London:20260525T080000
DTEND;TZID=Europe/London:20260526T170000
DTSTAMP:20260424T140539
CREATED:20251002T111233Z
LAST-MODIFIED:20251002T111233Z
UID:3125-1779696000-1779814800@sacredheartprimary.com
SUMMARY:School Closure
DESCRIPTION:
URL:https://sacredheartprimary.com/calendar/school-closure-6/
END:VEVENT
END:VCALENDAR