BEGIN:VCALENDAR
VERSION:2.0
PRODID:-//Sacred Heart Primary School Tattyreagh - ECPv6.15.20//NONSGML v1.0//EN
CALSCALE:GREGORIAN
METHOD:PUBLISH
X-ORIGINAL-URL:https://sacredheartprimary.com
X-WR-CALDESC:Events for Sacred Heart Primary School Tattyreagh
REFRESH-INTERVAL;VALUE=DURATION:PT1H
X-Robots-Tag:noindex
X-PUBLISHED-TTL:PT1H
BEGIN:VTIMEZONE
TZID:Europe/London
BEGIN:DAYLIGHT
TZOFFSETFROM:+0000
TZOFFSETTO:+0100
TZNAME:BST
DTSTART:20250330T010000
END:DAYLIGHT
BEGIN:STANDARD
TZOFFSETFROM:+0100
TZOFFSETTO:+0000
TZNAME:GMT
DTSTART:20251026T010000
END:STANDARD
BEGIN:DAYLIGHT
TZOFFSETFROM:+0000
TZOFFSETTO:+0100
TZNAME:BST
DTSTART:20260329T010000
END:DAYLIGHT
BEGIN:STANDARD
TZOFFSETFROM:+0100
TZOFFSETTO:+0000
TZNAME:GMT
DTSTART:20261025T010000
END:STANDARD
BEGIN:DAYLIGHT
TZOFFSETFROM:+0000
TZOFFSETTO:+0100
TZNAME:BST
DTSTART:20270328T010000
END:DAYLIGHT
BEGIN:STANDARD
TZOFFSETFROM:+0100
TZOFFSETTO:+0000
TZNAME:GMT
DTSTART:20271031T010000
END:STANDARD
END:VTIMEZONE
BEGIN:VEVENT
DTSTART;TZID=Europe/London:20260304T080000
DTEND;TZID=Europe/London:20260304T170000
DTSTAMP:20260424T141821
CREATED:20251016T142313Z
LAST-MODIFIED:20251016T142313Z
UID:3146-1772611200-1772643600@sacredheartprimary.com
SUMMARY:P7 Confirmation  (5.00pm Sacred Heart Church)
DESCRIPTION:P7 pupils will join those from All Saints PS Tattysallagh and receive the Sacrament of Confirmation at 5.00pm in the Sacred Heart Church.
URL:https://sacredheartprimary.com/calendar/p7-confirmation-5-00pm-sacred-heart-church/
END:VEVENT
BEGIN:VEVENT
DTSTART;VALUE=DATE:20260305
DTEND;VALUE=DATE:20260306
DTSTAMP:20260424T141821
CREATED:20260205T140900Z
LAST-MODIFIED:20260205T140900Z
UID:3233-1772668800-1772755199@sacredheartprimary.com
SUMMARY:World Book Day
DESCRIPTION:Pupils are invited to dress up in a book character of their choice.
URL:https://sacredheartprimary.com/calendar/world-book-day-2/
END:VEVENT
BEGIN:VEVENT
DTSTART;TZID=Europe/London:20260311T123000
DTEND;TZID=Europe/London:20260311T140000
DTSTAMP:20260424T141821
CREATED:20251016T142542Z
LAST-MODIFIED:20251016T142542Z
UID:3148-1773232200-1773237600@sacredheartprimary.com
SUMMARY:P6/7 Bee Safe Event
DESCRIPTION:P6/7 pupils will participate in a variety of safety workshops delivered by  NIE\, PSNI\, NI Ambulance\, RNLI\, NI Fire & Rescue at the Bawnacre Centre in Irvinestown.
URL:https://sacredheartprimary.com/calendar/p6-7-bee-safe-event/
END:VEVENT
BEGIN:VEVENT
DTSTART;VALUE=DATE:20260313
DTEND;VALUE=DATE:20260314
DTSTAMP:20260424T141821
CREATED:20260312T153952Z
LAST-MODIFIED:20260312T154011Z
UID:3276-1773360000-1773446399@sacredheartprimary.com
SUMMARY:Green Themed Day
DESCRIPTION:To mark St Patrick’s Day pupils are invited to come to school in green. whether it’s a football jersey\, wig\, face-paint…the choice is yours!!
URL:https://sacredheartprimary.com/calendar/green-themed-day/
END:VEVENT
BEGIN:VEVENT
DTSTART;TZID=Europe/London:20260314T100000
DTEND;TZID=Europe/London:20260314T123000
DTSTAMP:20260424T141821
CREATED:20260205T141027Z
LAST-MODIFIED:20260205T141027Z
UID:3235-1773482400-1773491400@sacredheartprimary.com
SUMMARY:Fund Raising Coffee Morning
DESCRIPTION:Organised by our PTA\,  in the School Hall
URL:https://sacredheartprimary.com/calendar/fund-raising-coffee-morning/
END:VEVENT
BEGIN:VEVENT
DTSTART;VALUE=DATE:20260316
DTEND;VALUE=DATE:20260317
DTSTAMP:20260424T141821
CREATED:20260312T153440Z
LAST-MODIFIED:20260312T153756Z
UID:3273-1773619200-1773705599@sacredheartprimary.com
SUMMARY:School Closure
DESCRIPTION:TransformEd Training Day @ All Saints PS Tattysallagh
URL:https://sacredheartprimary.com/calendar/school-closure-7/
END:VEVENT
BEGIN:VEVENT
DTSTART;TZID=Europe/London:20260317T080000
DTEND;TZID=Europe/London:20260318T170000
DTSTAMP:20260424T141821
CREATED:20251002T110957Z
LAST-MODIFIED:20251002T110957Z
UID:3119-1773734400-1773853200@sacredheartprimary.com
SUMMARY:School Closure (St. Patrick's Day)
DESCRIPTION:
URL:https://sacredheartprimary.com/calendar/school-closure-st-patricks-day/
END:VEVENT
BEGIN:VEVENT
DTSTART;TZID=Europe/London:20260320T100000
DTEND;TZID=Europe/London:20260320T123000
DTSTAMP:20260424T141821
CREATED:20260312T154532Z
LAST-MODIFIED:20260312T154532Z
UID:3281-1774000800-1774009800@sacredheartprimary.com
SUMMARY:Girls' Indoor Gaelic Blitz
DESCRIPTION:Pupils will participate in the Conall McCrory Memorial Cup organised by St. Conor’s PS
URL:https://sacredheartprimary.com/calendar/girls-indoor-gaelic-blitz/
END:VEVENT
BEGIN:VEVENT
DTSTART;TZID=Europe/London:20260325T140000
DTEND;TZID=Europe/London:20260325T150000
DTSTAMP:20260424T141821
CREATED:20260205T141152Z
LAST-MODIFIED:20260205T141152Z
UID:3237-1774447200-1774450800@sacredheartprimary.com
SUMMARY:First Confession
DESCRIPTION:First Confession for P4 pupils will be heard by Fr. Canning in the School Hall.
URL:https://sacredheartprimary.com/calendar/first-confession/
END:VEVENT
BEGIN:VEVENT
DTSTART;TZID=Europe/London:20260326T100000
DTEND;TZID=Europe/London:20260326T123000
DTSTAMP:20260424T141821
CREATED:20260312T154141Z
LAST-MODIFIED:20260312T154357Z
UID:3278-1774519200-1774528200@sacredheartprimary.com
SUMMARY:GAA Blitz @ Garvaghy
DESCRIPTION:Go Games non-competitive blitz
URL:https://sacredheartprimary.com/calendar/gaa-bklitz-garvaghy/
END:VEVENT
BEGIN:VEVENT
DTSTART;TZID=Europe/London:20260327T100000
DTEND;TZID=Europe/London:20260327T123000
DTSTAMP:20260424T141821
CREATED:20260205T141316Z
LAST-MODIFIED:20260205T141316Z
UID:3239-1774605600-1774614600@sacredheartprimary.com
SUMMARY:Yellow Brick Road
DESCRIPTION:Pupils in P6/7 are off to Dromore to see St. Dympna’s PS production of this timeless classic.
URL:https://sacredheartprimary.com/calendar/yellow-brick-road/
END:VEVENT
END:VCALENDAR