BEGIN:VCALENDAR
VERSION:2.0
PRODID:-//Sacred Heart Primary School Tattyreagh - ECPv6.15.20//NONSGML v1.0//EN
CALSCALE:GREGORIAN
METHOD:PUBLISH
X-WR-CALNAME:Sacred Heart Primary School Tattyreagh
X-ORIGINAL-URL:https://sacredheartprimary.com
X-WR-CALDESC:Events for Sacred Heart Primary School Tattyreagh
REFRESH-INTERVAL;VALUE=DURATION:PT1H
X-Robots-Tag:noindex
X-PUBLISHED-TTL:PT1H
BEGIN:VTIMEZONE
TZID:Europe/London
BEGIN:DAYLIGHT
TZOFFSETFROM:+0000
TZOFFSETTO:+0100
TZNAME:BST
DTSTART:20230326T010000
END:DAYLIGHT
BEGIN:STANDARD
TZOFFSETFROM:+0100
TZOFFSETTO:+0000
TZNAME:GMT
DTSTART:20231029T010000
END:STANDARD
BEGIN:DAYLIGHT
TZOFFSETFROM:+0000
TZOFFSETTO:+0100
TZNAME:BST
DTSTART:20240331T010000
END:DAYLIGHT
BEGIN:STANDARD
TZOFFSETFROM:+0100
TZOFFSETTO:+0000
TZNAME:GMT
DTSTART:20241027T010000
END:STANDARD
BEGIN:DAYLIGHT
TZOFFSETFROM:+0000
TZOFFSETTO:+0100
TZNAME:BST
DTSTART:20250330T010000
END:DAYLIGHT
BEGIN:STANDARD
TZOFFSETFROM:+0100
TZOFFSETTO:+0000
TZNAME:GMT
DTSTART:20251026T010000
END:STANDARD
END:VTIMEZONE
BEGIN:VEVENT
DTSTART;VALUE=DATE:20241030
DTEND;VALUE=DATE:20241102
DTSTAMP:20260425T144549
CREATED:20240924T112238Z
LAST-MODIFIED:20240924T112238Z
UID:2892-1730246400-1730505599@sacredheartprimary.com
SUMMARY:School Closure (Halloween)
DESCRIPTION:
URL:https://sacredheartprimary.com/calendar/school-closure-halloween/
END:VEVENT
BEGIN:VEVENT
DTSTART;TZID=Europe/London:20241116T100000
DTEND;TZID=Europe/London:20241116T110000
DTSTAMP:20260425T144549
CREATED:20240924T112406Z
LAST-MODIFIED:20240924T112406Z
UID:2894-1731751200-1731754800@sacredheartprimary.com
SUMMARY:P7 Transfer Test (1)
DESCRIPTION:In local Grammar schools
URL:https://sacredheartprimary.com/calendar/p7-transfer-test-1-2/
END:VEVENT
BEGIN:VEVENT
DTSTART;VALUE=DATE:20241120
DTEND;VALUE=DATE:20241121
DTSTAMP:20260425T144549
CREATED:20240924T112517Z
LAST-MODIFIED:20240924T112517Z
UID:2896-1732060800-1732147199@sacredheartprimary.com
SUMMARY:Dogs Trust
DESCRIPTION:All classes will be visited by members of the Dog’s Trust who will speak to the children about dogs\, how to treat them\, how to keep safe etcc
URL:https://sacredheartprimary.com/calendar/dogs-trust/
END:VEVENT
BEGIN:VEVENT
DTSTART;TZID=Europe/London:20241123T100000
DTEND;TZID=Europe/London:20241123T110000
DTSTAMP:20260425T144549
CREATED:20240924T112720Z
LAST-MODIFIED:20240924T112720Z
UID:2900-1732356000-1732359600@sacredheartprimary.com
SUMMARY:Transfer Test (2)
DESCRIPTION:In local Grammar Schools
URL:https://sacredheartprimary.com/calendar/transfer-test-2/
END:VEVENT
BEGIN:VEVENT
DTSTART;TZID=Europe/London:20241124T120000
DTEND;TZID=Europe/London:20241124T130000
DTSTAMP:20260425T144549
CREATED:20240924T112623Z
LAST-MODIFIED:20240924T112623Z
UID:2898-1732449600-1732453200@sacredheartprimary.com
SUMMARY:Do this in Memory Mass (2)
DESCRIPTION:Sacred Heart Church 12.00pm
URL:https://sacredheartprimary.com/calendar/do-this-in-memory-mass-2/
END:VEVENT
BEGIN:VEVENT
DTSTART;TZID=Europe/London:20241125T103000
DTEND;TZID=Europe/London:20241125T113000
DTSTAMP:20260425T144549
CREATED:20240924T112844Z
LAST-MODIFIED:20240924T112844Z
UID:2902-1732530600-1732534200@sacredheartprimary.com
SUMMARY:Ulster Orchestra Performance
DESCRIPTION:Pupils in P6/7 are off to the Strule Arts Centre to watch the Ulster Orchestra perform a selection of popular instrumental classics
URL:https://sacredheartprimary.com/calendar/ulster-orchestra-performance/
END:VEVENT
END:VCALENDAR