BEGIN:VCALENDAR
VERSION:2.0
PRODID:-//Sacred Heart Primary School Tattyreagh - ECPv6.15.20//NONSGML v1.0//EN
CALSCALE:GREGORIAN
METHOD:PUBLISH
X-ORIGINAL-URL:https://sacredheartprimary.com
X-WR-CALDESC:Events for Sacred Heart Primary School Tattyreagh
REFRESH-INTERVAL;VALUE=DURATION:PT1H
X-Robots-Tag:noindex
X-PUBLISHED-TTL:PT1H
BEGIN:VTIMEZONE
TZID:Europe/London
BEGIN:DAYLIGHT
TZOFFSETFROM:+0000
TZOFFSETTO:+0100
TZNAME:BST
DTSTART:20230326T010000
END:DAYLIGHT
BEGIN:STANDARD
TZOFFSETFROM:+0100
TZOFFSETTO:+0000
TZNAME:GMT
DTSTART:20231029T010000
END:STANDARD
BEGIN:DAYLIGHT
TZOFFSETFROM:+0000
TZOFFSETTO:+0100
TZNAME:BST
DTSTART:20240331T010000
END:DAYLIGHT
BEGIN:STANDARD
TZOFFSETFROM:+0100
TZOFFSETTO:+0000
TZNAME:GMT
DTSTART:20241027T010000
END:STANDARD
BEGIN:DAYLIGHT
TZOFFSETFROM:+0000
TZOFFSETTO:+0100
TZNAME:BST
DTSTART:20250330T010000
END:DAYLIGHT
BEGIN:STANDARD
TZOFFSETFROM:+0100
TZOFFSETTO:+0000
TZNAME:GMT
DTSTART:20251026T010000
END:STANDARD
END:VTIMEZONE
BEGIN:VEVENT
DTSTART;TZID=Europe/London:20241001T133000
DTEND;TZID=Europe/London:20241001T143000
DTSTAMP:20260425T164109
CREATED:20240924T111703Z
LAST-MODIFIED:20240924T111703Z
UID:2884-1727789400-1727793000@sacredheartprimary.com
SUMMARY:P5 Fire & Rescue Presentation
DESCRIPTION:Members of NIFR will put on a presentation to our P5 pupils
URL:https://sacredheartprimary.com/calendar/p5-fire-rescue-presentation/
END:VEVENT
BEGIN:VEVENT
DTSTART;TZID=Europe/London:20241004T133000
DTEND;TZID=Europe/London:20241004T140000
DTSTAMP:20260425T164109
CREATED:20240924T111831Z
LAST-MODIFIED:20240924T111917Z
UID:2886-1728048600-1728050400@sacredheartprimary.com
SUMMARY:NSPCC "Speak out Stay Safe" Assembly
DESCRIPTION:All classes will participate in a special NSPCC recorded  assembly
URL:https://sacredheartprimary.com/calendar/nspcc-speak-out-stay-safe-assembly/
END:VEVENT
BEGIN:VEVENT
DTSTART;TZID=Europe/London:20241027T120000
DTEND;TZID=Europe/London:20241027T130000
DTSTAMP:20260425T164109
CREATED:20240924T112132Z
LAST-MODIFIED:20240924T112148Z
UID:2889-1730030400-1730034000@sacredheartprimary.com
SUMMARY:Do This in Memory Mass (P.4)
DESCRIPTION:Pupils in P4 are invited to attend the 1st “Do this in Memory Mass2 at 12.00pm in the Sacred Heart Church in preparation for their 1st Holy Communion
URL:https://sacredheartprimary.com/calendar/do-this-in-memory-mass-p-4/
END:VEVENT
BEGIN:VEVENT
DTSTART;VALUE=DATE:20241030
DTEND;VALUE=DATE:20241102
DTSTAMP:20260425T164109
CREATED:20240924T112238Z
LAST-MODIFIED:20240924T112238Z
UID:2892-1730246400-1730505599@sacredheartprimary.com
SUMMARY:School Closure (Halloween)
DESCRIPTION:
URL:https://sacredheartprimary.com/calendar/school-closure-halloween/
END:VEVENT
END:VCALENDAR